BEGIN:VCALENDAR
VERSION:2.0
PRODID:-//Turismo nelle Valli di Lanzo - ECPv5.7.1//NONSGML v1.0//EN
CALSCALE:GREGORIAN
METHOD:PUBLISH
X-WR-CALNAME:Turismo nelle Valli di Lanzo
X-ORIGINAL-URL:https://turismovallidilanzo.it
X-WR-CALDESC:Eventi per Turismo nelle Valli di Lanzo
BEGIN:VTIMEZONE
TZID:Europe/Paris
BEGIN:DAYLIGHT
TZOFFSETFROM:+0100
TZOFFSETTO:+0200
TZNAME:CEST
DTSTART:20230326T010000
END:DAYLIGHT
BEGIN:STANDARD
TZOFFSETFROM:+0200
TZOFFSETTO:+0100
TZNAME:CET
DTSTART:20231029T010000
END:STANDARD
END:VTIMEZONE
BEGIN:VEVENT
DTSTART;VALUE=DATE:20230115
DTEND;VALUE=DATE:20230116
DTSTAMP:20260423T043404
CREATED:20221223T085159Z
LAST-MODIFIED:20230108T045516Z
UID:10921-1673740800-1673827199@turismovallidilanzo.it
SUMMARY:MEZZENILE | Camminata alla cappella Giardin
DESCRIPTION:Programma:\nOre 9\,00 : Registrazione\, consegna pettorali e omaggi presso la piazza della Chiesa di Mezzenile. \nOre 9\,30: Partenza della camminata. \nOre 11-11\,30: arrivo alla cappella Giardin. Per l’occasione la cappella sarà aperta per le visite. \nOre 12\,30/13\,00: previsto il rientro al punto di partenza. \nPranzo: prezzo convenzionato da prenotare direttamente presso le strutture:\nIl Vecchio Borgo\, 0123581809.\nIl Tempelier\, 0123581883. \n\nNote tecniche:\nDifficoltà tecniche: E – escursionistico. Sentieri\, strade secondarie e sterrate. \nDislivello: 400 m (medio allenamento al cammino in montagna) \nLunghezza percorso: 7\,5 Km circa (andata + ritorno) \nQuota partenza: 650 m \nQuota arrivo: 1057 m \n> Passeggiata adatta a tutte le età\, per persone con una media abitudine al cammino. \n> Sufficienti scarponcini o scarpe da trekking\, consigliati i bastoncini da trekking o da sci (non forniti dall’organizzazione). \n> In caso di presenza di neve si effettuerà una ciaspolata \n>Per l’occasione verrà riaperta la mostra fotografica “Di rifugio in rifugio – Scenari di alpinismo nelle valli di Lanzo” presso la sala pipistrelli del Castello Francesetti di Mezzenile< \n\nInformazioni sulle iscrizioni:\n> Prezzi escursione (da pagare in loco)\nAdulti: € 7\,00 a persona\nBambini nati fino al 2013: € 4\,00 a persona \nSegreteria del Consorzio Operatori Turistici Valli di Lanzo:\nmpt@turismovallidilanzo.it\n389 8379177 – 338 9726184 \nPer ragioni organizzative ti invitiamo a pre-iscriverti compilano il form qui sotto\nFORM D’ISCRIZIONE \nOPPURE\npresentati direttamente in loco alle ore 9\,00 di domenica 15/01/2023 \n  \n  \nContatti degli organizzatori:\n>proloco.mezzenile@gmail.com\n>Ezio Sesia\n0123 581378 – 333 7134903\nezio.sesia@gmail.com \n>Maurizio Deffacis\ndeffacis.maurizio@gmail.com\n348 9040020 \n\n 
URL:https://turismovallidilanzo.it/evento/escursione-mezzenile2023/
LOCATION:Mezzenile\, Mezzenile\, 10070\, Italia
CATEGORIES:Eventi,Events,Montagna per Tutti
ATTACH;FMTTYPE=image/jpeg:https://turismovallidilanzo.it/wp-content/uploads/2018/11/Mezzenile-2023.jpg
END:VEVENT
END:VCALENDAR