BEGIN:VCALENDAR
VERSION:2.0
PRODID:-//Turismo nelle Valli di Lanzo - ECPv5.7.1//NONSGML v1.0//EN
CALSCALE:GREGORIAN
METHOD:PUBLISH
X-WR-CALNAME:Turismo nelle Valli di Lanzo
X-ORIGINAL-URL:https://turismovallidilanzo.it
X-WR-CALDESC:Eventi per Turismo nelle Valli di Lanzo
BEGIN:VTIMEZONE
TZID:Europe/Paris
BEGIN:DAYLIGHT
TZOFFSETFROM:+0100
TZOFFSETTO:+0200
TZNAME:CEST
DTSTART:20230326T010000
END:DAYLIGHT
BEGIN:STANDARD
TZOFFSETFROM:+0200
TZOFFSETTO:+0100
TZNAME:CET
DTSTART:20231029T010000
END:STANDARD
END:VTIMEZONE
BEGIN:VEVENT
DTSTART;VALUE=DATE:20230128
DTEND;VALUE=DATE:20230130
DTSTAMP:20260422T135050
CREATED:20230106T161532Z
LAST-MODIFIED:20230121T055328Z
UID:10979-1674864000-1675036799@turismovallidilanzo.it
SUMMARY:RUBIANA | Notturna e diurna\, Il Colle del Lys e il Comitato Organizzativo di Rubiana ti aspetta con i suoi itinerari outdoor
DESCRIPTION:Weekend di ciaspolate in diurna e notturna con partenza dal  Col del Lys!\nDue giorni in cui si potrà scegliere di partecipare alla ciaspolata in notturna la sera del sabato\, oppure in diurna alla mattina della domenica . \nSabato 28 gennaio 2023\nNOTTURNA\nProgramma: \nOre 16\,00: Ritrovo dei partecipanti per accredito\, noleggio ciaspole e iscrizioni alle attività\, presso l’area adiacente al Yeti Village – rifugio Colle del Lys; \n> Tutti i partecipanti riceveranno il pettorale di partecipazione. \nOre 18\,30: Partenza della camminata notturna dal Rifugio Colle del Lys  \n> Destinazione: Santuario Madonna della Bassa con vista panoramica sulla bassa Valle di Susa e i Laghi di Avigliana \, poi rientro. Punto ristoro presso il Santuario . \n> Possibilità di cenare a prezzo convenzionato presso il rifugio Colle del Lys (prenotare la cena direttamente al gestore del rifugio: tel. 0123 73 81 10) \n\nNote tecniche: \nDifficoltà: E \nLunghezza: 7 Km totali \nDislivello max.: 300 m \n> Percorso che si snoda su sentiero ciaspole e pista tagliafuoco. \n> Si raccomanda di indossare abiti e scarpe adatte al trekking sulla neve e alle basse temperature\, luce per illuminare il cammino. \n> Possibilità di affitto in loco di torcia frontale al costo di € 5\,00  fino ad esaurimento scorte. \n> IMPORTANTE !! In mancanza di neve la camminata verrà garantita con le stesse modalità di iscrizione dando la possibilità di ammirare il Bosco\, la Notte e le sue Stelle. \n\nDomenica 29 gennaio 2023\nDIURNA\nProgramma: \nA partire dalle ore 8\,30: ritrovo partecipanti\, noleggio ciaspole\, accredito e iscrizioni alle attività presso il gazebo dell’organizzazione sito sul piazzale del colle del Lys;\n>Tutti i partecipanti riceveranno il pettorale di partecipazione. \nOre 10\,00: Partenza \, destinazione Santuario Madonna della Bassa  con vista panoramica sulla bassa Valle di Susa e i Laghi di Avigliana \, poi rientro. Punto ristoro presso il Santuario . \n\nNote tecniche: \nDifficoltà: E \nLunghezza: 7 Km totali \nDislivello max.: 300 m \n> Si raccomanda di indossare abiti e scarpe adatte al trekking sulla neve. \n> IMPORTANTE !! In mancanza di neve le camminate verranno garantite con il sempre impatto positivo che la natura offre.< \n\nInfo e Prenotazioni:\n Iscrizioni all’Evento .\n€ 15\,00 adulti (senza noleggio racchette)\n€ 10\,00 bambini(senza noleggio racchette)\n> NOLEGGIO CIASPOLE: ADULTI E BAMBINI  (FINO AD ESAURRIMENTO SCORTE) A € 10\,00 \nRICHIESTA LA PRENOTAZIONE\ncompila questo FORM D’ISCRIZIONE \nInformazioni sulle iscrizioni: \n> Segreteria del Consorzio Operatori Turistici Valli di Lanzo:\nmpt@turismovallidilanzo.it\n338 9726184 \nContatti degli organizzatori: \n> Alberto\nalberto.capellaro@rclibre.com\n3455102472
URL:https://turismovallidilanzo.it/evento/rubiana-notturna-e-diurna/
LOCATION:Colle del Lys\, Piazzale colle del Lys\, Viù\, TO\, 10070\, Italia
CATEGORIES:Eventi,Montagna per Tutti
ATTACH;FMTTYPE=image/jpeg:https://turismovallidilanzo.it/wp-content/uploads/2022/01/RUBIANA-LYS-mpt.jpg
ORGANIZER;CN="Pro%20Loco%20Rubiana":MAILTO:proloco.rubiana@yahoo.it
END:VEVENT
END:VCALENDAR